Package: GeneGeneInteR Version: 1.32.0 Command: /Library/Frameworks/R.framework/Resources/bin/R CMD check --install=check:GeneGeneInteR.install-out.txt --library=/Library/Frameworks/R.framework/Resources/library --no-vignettes --timings GeneGeneInteR_1.32.0.tar.gz StartedAt: 2025-04-01 19:59:59 -0400 (Tue, 01 Apr 2025) EndedAt: 2025-04-01 20:02:51 -0400 (Tue, 01 Apr 2025) EllapsedTime: 171.8 seconds RetCode: 0 Status: OK CheckDir: GeneGeneInteR.Rcheck Warnings: 0