Package: GeneGeneInteR Version: 1.32.0 Command: rm -rf GeneGeneInteR.buildbin-libdir && mkdir GeneGeneInteR.buildbin-libdir && /Users/biocbuild/BBS/utils/build-universal.sh GeneGeneInteR_1.32.0.tar.gz /Library/Frameworks/R.framework/Resources/bin/R GeneGeneInteR.buildbin-libdir StartedAt: 2025-01-29 14:45:33 -0500 (Wed, 29 Jan 2025) EndedAt: 2025-01-29 14:46:04 -0500 (Wed, 29 Jan 2025) EllapsedTime: 31.4 seconds RetCode: 0 Status: OK PackageFile: GeneGeneInteR_1.32.0.tgz PackageFileSize: 1.369 MiB