Package: GeneGA Version: 1.56.0 Command: /home/biocbuild/R/R/bin/R CMD INSTALL GeneGA StartedAt: 2025-01-27 21:09:26 -0000 (Mon, 27 Jan 2025) EndedAt: 2025-01-27 21:09:46 -0000 (Mon, 27 Jan 2025) EllapsedTime: 19.8 seconds RetCode: 0 Status: OK