Package: GeneGA Version: 1.56.0 Command: /home/biocbuild/bbs-3.20-bioc/R/bin/R CMD build --keep-empty-dirs --no-resave-data --md5 GeneGA StartedAt: 2025-01-27 18:16:47 -0500 (Mon, 27 Jan 2025) EndedAt: 2025-01-27 18:17:56 -0500 (Mon, 27 Jan 2025) EllapsedTime: 69.1 seconds RetCode: 0 Status: OK PackageFile: GeneGA_1.56.0.tar.gz PackageFileSize: 228.7 KiB