Package: GeneGA Version: 1.56.0 Command: /Library/Frameworks/R.framework/Resources/bin/R CMD INSTALL GeneGA StartedAt: 2025-01-27 15:16:47 -0500 (Mon, 27 Jan 2025) EndedAt: 2025-01-27 15:17:24 -0500 (Mon, 27 Jan 2025) EllapsedTime: 37.2 seconds RetCode: 0 Status: OK