Package: GeneGA Version: 1.56.0 Command: /Library/Frameworks/R.framework/Resources/bin/R CMD build --keep-empty-dirs --no-resave-data GeneGA StartedAt: 2024-11-08 17:22:52 -0500 (Fri, 08 Nov 2024) EndedAt: 2024-11-08 17:22:54 -0500 (Fri, 08 Nov 2024) EllapsedTime: 2.0 seconds RetCode: 1 Status: ERROR PackageFile: None PackageFileSize: NA