Package: GeneGA Version: 1.56.0 Command: /Library/Frameworks/R.framework/Resources/bin/R CMD INSTALL GeneGA StartedAt: 2025-03-31 15:30:10 -0400 (Mon, 31 Mar 2025) EndedAt: 2025-03-31 15:30:14 -0400 (Mon, 31 Mar 2025) EllapsedTime: 4.4 seconds RetCode: 0 Status: OK