Package: GeneGA Version: 1.56.0 Command: rm -rf GeneGA.buildbin-libdir && mkdir GeneGA.buildbin-libdir && /Users/biocbuild/BBS/utils/build-universal.sh GeneGA_1.56.0.tar.gz /Library/Frameworks/R.framework/Resources/bin/R GeneGA.buildbin-libdir StartedAt: 2025-04-02 14:27:58 -0400 (Wed, 02 Apr 2025) EndedAt: 2025-04-02 14:28:03 -0400 (Wed, 02 Apr 2025) EllapsedTime: 5.6 seconds RetCode: 0 Status: OK PackageFile: GeneGA_1.56.0.tgz PackageFileSize: 394 KiB