Package: GeneExpressionSignature Version: 1.52.0 Command: rm -rf GeneExpressionSignature.buildbin-libdir && mkdir GeneExpressionSignature.buildbin-libdir && F:\biocbuild\bbs-3.20-bioc\R\bin\R.exe CMD INSTALL --build --library=GeneExpressionSignature.buildbin-libdir GeneExpressionSignature_1.52.0.tar.gz StartedAt: 2025-01-28 08:11:49 -0500 (Tue, 28 Jan 2025) EndedAt: 2025-01-28 08:14:14 -0500 (Tue, 28 Jan 2025) EllapsedTime: 145.3 seconds RetCode: 0 Status: OK PackageFile: GeneExpressionSignature_1.52.0.zip PackageFileSize: 2.53 MiB