Package: GeneExpressionSignature Version: 1.52.0 Command: /home/biocbuild/bbs-3.20-bioc/R/bin/R CMD build --keep-empty-dirs --no-resave-data --md5 GeneExpressionSignature StartedAt: 2025-01-27 18:16:37 -0500 (Mon, 27 Jan 2025) EndedAt: 2025-01-27 18:17:02 -0500 (Mon, 27 Jan 2025) EllapsedTime: 25.0 seconds RetCode: 0 Status: OK PackageFile: GeneExpressionSignature_1.52.0.tar.gz PackageFileSize: 2.546 MiB