Package: GeneExpressionSignature Version: 1.52.0 Command: /Library/Frameworks/R.framework/Resources/bin/R CMD INSTALL GeneExpressionSignature StartedAt: 2025-01-30 15:11:21 -0500 (Thu, 30 Jan 2025) EndedAt: 2025-01-30 15:11:34 -0500 (Thu, 30 Jan 2025) EllapsedTime: 13.5 seconds RetCode: 0 Status: OK