Package: GeneExpressionSignature Version: 1.52.0 Command: rm -rf GeneExpressionSignature.buildbin-libdir && mkdir GeneExpressionSignature.buildbin-libdir && /Users/biocbuild/BBS/utils/build-universal.sh GeneExpressionSignature_1.52.0.tar.gz /Library/Frameworks/R.framework/Resources/bin/R GeneExpressionSignature.buildbin-libdir StartedAt: 2025-01-31 12:51:18 -0500 (Fri, 31 Jan 2025) EndedAt: 2025-01-31 12:51:28 -0500 (Fri, 31 Jan 2025) EllapsedTime: 9.7 seconds RetCode: 0 Status: OK PackageFile: GeneExpressionSignature_1.52.0.tgz PackageFileSize: 2.525 MiB