Package: GeneBreak Version: 1.36.0 Command: /home/biocbuild/R/R/bin/R CMD INSTALL GeneBreak StartedAt: 2025-03-31 20:38:19 -0000 (Mon, 31 Mar 2025) EndedAt: 2025-03-31 20:38:45 -0000 (Mon, 31 Mar 2025) EllapsedTime: 26.0 seconds RetCode: 0 Status: OK