Package: GeneBreak Version: 1.36.0 Command: /home/biocbuild/R/R/bin/R CMD build --keep-empty-dirs --no-resave-data GeneBreak StartedAt: 2025-01-30 23:46:01 -0000 (Thu, 30 Jan 2025) EndedAt: 2025-01-30 23:46:39 -0000 (Thu, 30 Jan 2025) EllapsedTime: 38.0 seconds RetCode: 0 Status: OK PackageFile: GeneBreak_1.36.0.tar.gz PackageFileSize: 4.266 MiB