Package: GenProSeq Version: 1.10.0 Command: /home/biocbuild/R/R/bin/R CMD INSTALL GenProSeq StartedAt: 2025-01-27 22:04:51 -0000 (Mon, 27 Jan 2025) EndedAt: 2025-01-27 22:05:06 -0000 (Mon, 27 Jan 2025) EllapsedTime: 14.2 seconds RetCode: 0 Status: OK