Package: GenProSeq Version: 1.10.0 Command: rm -rf GenProSeq.buildbin-libdir && mkdir GenProSeq.buildbin-libdir && /Users/biocbuild/BBS/utils/build-universal.sh GenProSeq_1.10.0.tar.gz /Library/Frameworks/R.framework/Resources/bin/R GenProSeq.buildbin-libdir StartedAt: 2025-01-28 13:14:38 -0500 (Tue, 28 Jan 2025) EndedAt: 2025-01-28 13:15:37 -0500 (Tue, 28 Jan 2025) EllapsedTime: 59.2 seconds RetCode: 0 Status: OK PackageFile: GenProSeq_1.10.0.tgz PackageFileSize: 1.655 MiB