Package: GeDi Version: 1.2.0 Command: /Library/Frameworks/R.framework/Resources/bin/R CMD build --keep-empty-dirs --no-resave-data GeDi StartedAt: 2025-03-31 18:51:45 -0400 (Mon, 31 Mar 2025) EndedAt: 2025-03-31 18:58:07 -0400 (Mon, 31 Mar 2025) EllapsedTime: 382.0 seconds RetCode: 0 Status: OK PackageFile: GeDi_1.2.0.tar.gz PackageFileSize: 3.413 MiB