Package: GeDi Version: 1.2.0 Command: /Library/Frameworks/R.framework/Resources/bin/R CMD check --install=check:GeDi.install-out.txt --library=/Library/Frameworks/R.framework/Resources/library --no-vignettes --timings GeDi_1.2.0.tar.gz StartedAt: 2025-01-28 19:54:53 -0500 (Tue, 28 Jan 2025) EndedAt: 2025-01-28 20:08:27 -0500 (Tue, 28 Jan 2025) EllapsedTime: 813.6 seconds RetCode: 0 Status: OK CheckDir: GeDi.Rcheck Warnings: 0