Package: GeDi Version: 1.2.0 Command: /Library/Frameworks/R.framework/Resources/bin/R CMD build --keep-empty-dirs --no-resave-data GeDi StartedAt: 2025-01-28 00:03:43 -0500 (Tue, 28 Jan 2025) EndedAt: 2025-01-28 00:07:11 -0500 (Tue, 28 Jan 2025) EllapsedTime: 208.3 seconds RetCode: 0 Status: OK PackageFile: GeDi_1.2.0.tar.gz PackageFileSize: 3.413 MiB