Package: GateFinder Version: 1.26.0 Command: /home/biocbuild/R/R/bin/R CMD INSTALL GateFinder StartedAt: 2025-02-03 20:34:07 -0000 (Mon, 03 Feb 2025) EndedAt: 2025-02-03 20:34:24 -0000 (Mon, 03 Feb 2025) EllapsedTime: 16.7 seconds RetCode: 0 Status: OK