Package: GWENA Version: 1.16.0 Command: chmod a+r GWENA -R && F:\biocbuild\bbs-3.20-bioc\R\bin\R.exe CMD build --keep-empty-dirs --no-resave-data GWENA StartedAt: 2025-01-27 19:26:02 -0500 (Mon, 27 Jan 2025) EndedAt: 2025-01-27 19:28:11 -0500 (Mon, 27 Jan 2025) EllapsedTime: 129.1 seconds RetCode: 0 Status: OK PackageFile: GWENA_1.16.0.tar.gz PackageFileSize: 4.215 MiB