Package: GWENA Version: 1.16.0 Command: /home/biocbuild/bbs-3.20-bioc/R/bin/R CMD INSTALL GWENA StartedAt: 2025-02-03 15:49:51 -0500 (Mon, 03 Feb 2025) EndedAt: 2025-02-03 15:50:26 -0500 (Mon, 03 Feb 2025) EllapsedTime: 35.5 seconds RetCode: 0 Status: OK