Package: GWENA Version: 1.16.0 Command: /home/biocbuild/bbs-3.20-bioc/R/bin/R CMD check --install=check:GWENA.install-out.txt --library=/home/biocbuild/bbs-3.20-bioc/R/site-library --timings GWENA_1.16.0.tar.gz StartedAt: 2025-01-27 23:48:19 -0500 (Mon, 27 Jan 2025) EndedAt: 2025-01-27 23:58:16 -0500 (Mon, 27 Jan 2025) EllapsedTime: 596.7 seconds RetCode: 0 Status: WARNINGS CheckDir: GWENA.Rcheck Warnings: 2