Package: GWENA Version: 1.16.0 Command: /home/biocbuild/bbs-3.20-bioc/R/bin/R CMD build --keep-empty-dirs --no-resave-data --md5 GWENA StartedAt: 2025-02-03 17:45:07 -0500 (Mon, 03 Feb 2025) EndedAt: 2025-02-03 17:46:48 -0500 (Mon, 03 Feb 2025) EllapsedTime: 100.2 seconds RetCode: 0 Status: OK PackageFile: GWENA_1.16.0.tar.gz PackageFileSize: 4.791 MiB