Package: GWENA Version: 1.16.0 Command: /Library/Frameworks/R.framework/Resources/bin/R CMD INSTALL GWENA StartedAt: 2025-02-03 16:15:51 -0500 (Mon, 03 Feb 2025) EndedAt: 2025-02-03 16:17:03 -0500 (Mon, 03 Feb 2025) EllapsedTime: 71.9 seconds RetCode: 0 Status: OK