Package: GWENA Version: 1.16.0 Command: /Library/Frameworks/R.framework/Resources/bin/R CMD check --install=check:GWENA.install-out.txt --library=/Library/Frameworks/R.framework/Resources/library --no-vignettes --timings GWENA_1.16.0.tar.gz StartedAt: 2025-01-28 21:32:00 -0500 (Tue, 28 Jan 2025) EndedAt: 2025-01-28 21:36:04 -0500 (Tue, 28 Jan 2025) EllapsedTime: 244.0 seconds RetCode: 1 Status: ERROR CheckDir: GWENA.Rcheck Warnings: NA