Package: GWENA Version: 1.16.0 Command: /Library/Frameworks/R.framework/Resources/bin/R CMD build --keep-empty-dirs --no-resave-data GWENA StartedAt: 2025-01-28 01:13:09 -0500 (Tue, 28 Jan 2025) EndedAt: 2025-01-28 01:15:32 -0500 (Tue, 28 Jan 2025) EllapsedTime: 143.1 seconds RetCode: 0 Status: OK PackageFile: GWENA_1.16.0.tar.gz PackageFileSize: 4.678 MiB