Package: GWAS.BAYES Version: 1.16.0 Command: F:\biocbuild\bbs-3.20-bioc\R\bin\R.exe CMD check --no-multiarch --install=check:GWAS.BAYES.install-out.txt --library=F:\biocbuild\bbs-3.20-bioc\R\library --no-vignettes --timings GWAS.BAYES_1.16.0.tar.gz StartedAt: 2025-04-01 02:19:01 -0400 (Tue, 01 Apr 2025) EndedAt: 2025-04-01 02:21:03 -0400 (Tue, 01 Apr 2025) EllapsedTime: 122.5 seconds RetCode: 0 Status: OK CheckDir: GWAS.BAYES.Rcheck Warnings: 0