Package: GUIDEseq Version: 1.36.0 Command: /Library/Frameworks/R.framework/Resources/bin/R CMD INSTALL GUIDEseq StartedAt: 2024-11-19 15:43:08 -0500 (Tue, 19 Nov 2024) EndedAt: 2024-11-19 15:44:22 -0500 (Tue, 19 Nov 2024) EllapsedTime: 73.2 seconds RetCode: 0 Status: OK