Package: GSVA Version: 2.0.5 Command: /home/biocbuild/R/R/bin/R CMD build --keep-empty-dirs --no-resave-data GSVA StartedAt: 2025-01-31 00:11:08 -0000 (Fri, 31 Jan 2025) EndedAt: 2025-01-31 00:14:23 -0000 (Fri, 31 Jan 2025) EllapsedTime: 195.2 seconds RetCode: 0 Status: OK PackageFile: GSVA_2.0.5.tar.gz PackageFileSize: 2.229 MiB