Package: GSVA Version: 2.0.7 Command: chmod a+r GSVA -R && F:\biocbuild\bbs-3.20-bioc\R\bin\R.exe CMD build --keep-empty-dirs --no-resave-data GSVA StartedAt: 2025-03-31 19:25:23 -0400 (Mon, 31 Mar 2025) EndedAt: 2025-03-31 19:28:32 -0400 (Mon, 31 Mar 2025) EllapsedTime: 189.7 seconds RetCode: 0 Status: OK PackageFile: GSVA_2.0.7.tar.gz PackageFileSize: 2.134 MiB