Package: GSVA Version: 2.0.5 Command: /Library/Frameworks/R.framework/Resources/bin/R CMD INSTALL GSVA StartedAt: 2025-01-30 16:31:17 -0500 (Thu, 30 Jan 2025) EndedAt: 2025-01-30 16:32:43 -0500 (Thu, 30 Jan 2025) EllapsedTime: 85.3 seconds RetCode: 0 Status: OK