Package: GSVA Version: 2.0.5 Command: /Library/Frameworks/R.framework/Resources/bin/R CMD build --keep-empty-dirs --no-resave-data GSVA StartedAt: 2025-01-30 19:41:00 -0500 (Thu, 30 Jan 2025) EndedAt: 2025-01-30 19:46:55 -0500 (Thu, 30 Jan 2025) EllapsedTime: 354.7 seconds RetCode: 0 Status: OK PackageFile: GSVA_2.0.5.tar.gz PackageFileSize: 2.376 MiB