Package: GSVA Version: 2.0.5 Command: rm -rf GSVA.buildbin-libdir && mkdir GSVA.buildbin-libdir && /Users/biocbuild/BBS/utils/build-universal.sh GSVA_2.0.5.tar.gz /Library/Frameworks/R.framework/Resources/bin/R GSVA.buildbin-libdir StartedAt: 2025-01-31 12:56:42 -0500 (Fri, 31 Jan 2025) EndedAt: 2025-01-31 12:58:10 -0500 (Fri, 31 Jan 2025) EllapsedTime: 88.0 seconds RetCode: 0 Status: OK PackageFile: GSVA_2.0.5.tgz PackageFileSize: 2.258 MiB