Package: GSVA Version: 2.0.7 Command: /Library/Frameworks/R.framework/Resources/bin/R CMD check --install=check:GSVA.install-out.txt --library=/Library/Frameworks/R.framework/Resources/library --no-vignettes --timings GSVA_2.0.7.tar.gz StartedAt: 2025-04-01 21:22:18 -0400 (Tue, 01 Apr 2025) EndedAt: 2025-04-01 21:32:11 -0400 (Tue, 01 Apr 2025) EllapsedTime: 593.0 seconds RetCode: 0 Status: OK CheckDir: GSVA.Rcheck Warnings: 0