Package: GSVA Version: 2.0.7 Command: /Library/Frameworks/R.framework/Resources/bin/R CMD build --keep-empty-dirs --no-resave-data GSVA StartedAt: 2025-04-01 00:54:52 -0400 (Tue, 01 Apr 2025) EndedAt: 2025-04-01 00:57:28 -0400 (Tue, 01 Apr 2025) EllapsedTime: 156.5 seconds RetCode: 0 Status: OK PackageFile: GSVA_2.0.7.tar.gz PackageFileSize: 2.377 MiB