Package: GSReg Version: 1.40.0 Command: /home/biocbuild/bbs-3.20-bioc/R/bin/R CMD build --keep-empty-dirs --no-resave-data --md5 GSReg StartedAt: 2025-03-31 17:32:28 -0400 (Mon, 31 Mar 2025) EndedAt: 2025-03-31 17:33:56 -0400 (Mon, 31 Mar 2025) EllapsedTime: 87.1 seconds RetCode: 0 Status: OK PackageFile: GSReg_1.40.0.tar.gz PackageFileSize: 467.6 KiB