Package: GSReg Version: 1.40.0 Command: /Library/Frameworks/R.framework/Resources/bin/R CMD build --keep-empty-dirs --no-resave-data GSReg StartedAt: 2025-01-27 19:31:00 -0500 (Mon, 27 Jan 2025) EndedAt: 2025-01-27 19:34:23 -0500 (Mon, 27 Jan 2025) EllapsedTime: 202.4 seconds RetCode: 0 Status: OK PackageFile: GSReg_1.40.0.tar.gz PackageFileSize: 466.1 KiB