Package: GSReg Version: 1.40.0 Command: /Library/Frameworks/R.framework/Resources/bin/R CMD check --install=check:GSReg.install-out.txt --library=/Library/Frameworks/R.framework/Resources/library --no-vignettes --timings GSReg_1.40.0.tar.gz StartedAt: 2025-01-28 21:23:20 -0500 (Tue, 28 Jan 2025) EndedAt: 2025-01-28 21:26:19 -0500 (Tue, 28 Jan 2025) EllapsedTime: 178.3 seconds RetCode: 0 Status: WARNINGS CheckDir: GSReg.Rcheck Warnings: 3