Package: GSReg Version: 1.40.0 Command: rm -rf GSReg.buildbin-libdir && mkdir GSReg.buildbin-libdir && /Users/biocbuild/BBS/utils/build-universal.sh GSReg_1.40.0.tar.gz /Library/Frameworks/R.framework/Resources/bin/R GSReg.buildbin-libdir StartedAt: 2025-01-29 14:56:45 -0500 (Wed, 29 Jan 2025) EndedAt: 2025-01-29 14:57:37 -0500 (Wed, 29 Jan 2025) EllapsedTime: 51.9 seconds RetCode: 0 Status: OK PackageFile: GSReg_1.40.0.tgz PackageFileSize: 381 KiB