Package: GSRI Version: 2.54.0 Command: chmod a+r GSRI -R && F:\biocbuild\bbs-3.20-bioc\R\bin\R.exe CMD build --keep-empty-dirs --no-resave-data GSRI StartedAt: 2025-01-30 19:23:14 -0500 (Thu, 30 Jan 2025) EndedAt: 2025-01-30 19:24:13 -0500 (Thu, 30 Jan 2025) EllapsedTime: 59.2 seconds RetCode: 0 Status: OK PackageFile: GSRI_2.54.0.tar.gz PackageFileSize: 207.9 KiB