Package: GSEAmining Version: 1.16.0 Command: rm -rf GSEAmining.buildbin-libdir && mkdir GSEAmining.buildbin-libdir && F:\biocbuild\bbs-3.20-bioc\R\bin\R.exe CMD INSTALL --build --library=GSEAmining.buildbin-libdir GSEAmining_1.16.0.tar.gz StartedAt: 2025-04-01 08:21:08 -0400 (Tue, 01 Apr 2025) EndedAt: 2025-04-01 08:21:27 -0400 (Tue, 01 Apr 2025) EllapsedTime: 19.4 seconds RetCode: 0 Status: OK PackageFile: GSEAmining_1.16.0.zip PackageFileSize: 665.4 KiB