Package: GSEAmining Version: 1.16.0 Command: /Library/Frameworks/R.framework/Resources/bin/R CMD check --install=check:GSEAmining.install-out.txt --library=/Library/Frameworks/R.framework/Resources/library --no-vignettes --timings GSEAmining_1.16.0.tar.gz StartedAt: 2025-04-01 04:00:38 -0400 (Tue, 01 Apr 2025) EndedAt: 2025-04-01 04:04:00 -0400 (Tue, 01 Apr 2025) EllapsedTime: 202.4 seconds RetCode: 0 Status: OK CheckDir: GSEAmining.Rcheck Warnings: 0