Package: GSEAmining Version: 1.16.0 Command: rm -rf GSEAmining.buildbin-libdir && mkdir GSEAmining.buildbin-libdir && /Users/biocbuild/BBS/utils/build-universal.sh GSEAmining_1.16.0.tar.gz /Library/Frameworks/R.framework/Resources/bin/R GSEAmining.buildbin-libdir StartedAt: 2025-01-28 13:21:26 -0500 (Tue, 28 Jan 2025) EndedAt: 2025-01-28 13:21:51 -0500 (Tue, 28 Jan 2025) EllapsedTime: 25.1 seconds RetCode: 0 Status: OK PackageFile: GSEAmining_1.16.0.tgz PackageFileSize: 1.51 MiB