Package: GSEAmining Version: 1.16.0 Command: /Library/Frameworks/R.framework/Resources/bin/R CMD INSTALL GSEAmining StartedAt: 2025-01-27 15:38:08 -0500 (Mon, 27 Jan 2025) EndedAt: 2025-01-27 15:38:16 -0500 (Mon, 27 Jan 2025) EllapsedTime: 8.2 seconds RetCode: 0 Status: OK