Package: GSEAmining Version: 1.16.0 Command: /Library/Frameworks/R.framework/Resources/bin/R CMD check --install=check:GSEAmining.install-out.txt --library=/Library/Frameworks/R.framework/Resources/library --no-vignettes --timings GSEAmining_1.16.0.tar.gz StartedAt: 2025-01-28 21:22:23 -0500 (Tue, 28 Jan 2025) EndedAt: 2025-01-28 21:23:59 -0500 (Tue, 28 Jan 2025) EllapsedTime: 96.0 seconds RetCode: 0 Status: OK CheckDir: GSEAmining.Rcheck Warnings: 0