Package: GSEABenchmarkeR Version: 1.26.0 Command: /home/biocbuild/R/R/bin/R CMD INSTALL GSEABenchmarkeR StartedAt: 2025-03-31 20:32:51 -0000 (Mon, 31 Mar 2025) EndedAt: 2025-03-31 20:33:17 -0000 (Mon, 31 Mar 2025) EllapsedTime: 26.4 seconds RetCode: 0 Status: OK