Package: GSEABenchmarkeR Version: 1.26.0 Command: F:\biocbuild\bbs-3.20-bioc\R\bin\R.exe CMD INSTALL GSEABenchmarkeR StartedAt: 2025-03-31 16:11:27 -0400 (Mon, 31 Mar 2025) EndedAt: 2025-03-31 16:12:02 -0400 (Mon, 31 Mar 2025) EllapsedTime: 35.6 seconds RetCode: 0 Status: OK