Package: GSEABenchmarkeR Version: 1.26.0 Command: F:\biocbuild\bbs-3.20-bioc\R\bin\R.exe CMD check --no-multiarch --install=check:GSEABenchmarkeR.install-out.txt --library=F:\biocbuild\bbs-3.20-bioc\R\library --no-vignettes --timings GSEABenchmarkeR_1.26.0.tar.gz StartedAt: 2025-04-01 02:15:21 -0400 (Tue, 01 Apr 2025) EndedAt: 2025-04-01 02:20:49 -0400 (Tue, 01 Apr 2025) EllapsedTime: 327.6 seconds RetCode: 0 Status: OK CheckDir: GSEABenchmarkeR.Rcheck Warnings: 0