Package: GSEABenchmarkeR Version: 1.26.0 Command: rm -rf GSEABenchmarkeR.buildbin-libdir && mkdir GSEABenchmarkeR.buildbin-libdir && F:\biocbuild\bbs-3.20-bioc\R\bin\R.exe CMD INSTALL --build --library=GSEABenchmarkeR.buildbin-libdir GSEABenchmarkeR_1.26.0.tar.gz StartedAt: 2025-04-01 08:21:05 -0400 (Tue, 01 Apr 2025) EndedAt: 2025-04-01 08:22:57 -0400 (Tue, 01 Apr 2025) EllapsedTime: 111.9 seconds RetCode: 0 Status: OK PackageFile: GSEABenchmarkeR_1.26.0.zip PackageFileSize: 629.1 KiB